Workbook

Sheet Sheet1
A1: Keertan Darbar XXXX | M1: Scoring Sheet
A2: Raag: _____ | C2: Group: ____ | H2: Age Range: _____ | M2: Judge 1:
A3: S No | B3: Jattha | C3: Explanation of shabad (punjabi and english). | D3: Shaan | E3: Manglacharan | F3: Shabad Recitation | L3: Overall | M3: Total | N3: Mandatory Rules (Y/N) | T3: Excess time Penalty | U3: Net Marks
F4: Vocal skills | G4: shabad alaap | H4: taan | I4: Pronunciation | J4: SHSI (accuracy of sur, taal ans lay) | K4: Tabla player's skill | N4: Manglacharan sung in accordance with KD Rules | O4: Shabad sung in accordance with KD Rules | P4: Aaakar alaap not used. | Q4: sathaee sung in accordance with KD Rules | R4: no parmaans. | S4: if multiple padas, sang contiguous padas.
B5: Maximum Marks | C5: 5 | D5: 10 | E5: 5 | F5: 20 | G5: 5 | H5: 5 | I5: 10 | J5: 15 | K5: 15 | L5: 10 | M5: =SUM(C5:L5) -> 100
A6: 1 | B6: Rahao: JATTHA: | M6: =SUM(C6:L6) -> 0 | T6: =Time!E5 -> 0 | U6: =M6-T6 -> 0
A7: 2 | B7: Rahao: JATTHA: | M7: =SUM(C7:L7) -> 0 | T7: =Time!E6 -> 0 | U7: =M7-T7 -> 0
A8: 3 | B8: Rahao: JATTHA: | M8: =SUM(C8:L8) -> 0 | T8: =Time!E7 -> 0 | U8: =M8-T8 -> 0
A9: 4 | B9: Rahao: JATTHA: | M9: =SUM(C9:L9) -> 0 | T9: =Time!E8 -> 0 | U9: =M9-T9 -> 0
A10: 5 | B10: Rahao: JATTHA: | M10: =SUM(C10:L10) -> 0 | T10: =Time!E9 -> 0 | U10: =M10-T10 -> 0
A11: 6 | B11: Rahao: JATTHA: | M11: =SUM(C11:L11) -> 0 | T11: =Time!E10 -> 0 | U11: =M11-T11 -> 0
A12: 7 | B12: Rahao: JATTHA: | M12: =SUM(C12:L12) -> 0 | T12: =Time!E11 -> 0 | U12: =M12-T12 -> 0
A13: 8 | B13: Rahao: JATTHA: | M13: =SUM(C13:L13) -> 0 | T13: =Time!E12 -> 0 | U13: =M13-T13 -> 0
A14: 9 | B14: Rahao: JATTHA: | M14: =SUM(C14:L14) -> 0 | T14: =Time!E13 -> 0 | U14: =M14-T14 -> 0
A15: 10 | B15: Rahao: JATTHA: | M15: =SUM(C15:L15) -> 0 | T15: =Time!E14 -> 0 | U15: =M15-T15 -> 0
A16: 11 | B16: Rahao: JATTHA: | M16: =SUM(C16:L16) -> 0 | T16: =Time!E15 -> 0 | U16: =M16-T16 -> 0
A17: 12 | B17: Rahao: JATTHA: | M17: =SUM(C17:L17) -> 0 | T17: =Time!E16 -> 0 | U17: =M17-T17 -> 0
... A25: 20 | B25: Rahao: JATTHA: | M25: =SUM(C25:L25) -> 0 | T25: =Time!E24 -> 0 | U25: =M25-T25 -> 0
B27: Judge: _________________________________
B29: Shaan (Instrumental Prelude - Invocation) in assigned raag- SHSI – string instruments: (accuracy of sur, taal and laiy); Tabla (taal, clarity, laiy); - Bhaav of the raag
B30: Mangalacharan (Invocation) in assigned raag - Vocals; Instruments (SHSI and Tabla) ; Expression (in singing and playing) of emotional content (bhaav) of the raag
B31: Vocal Skills - Accuracy of Raag, Sur and Taal enhancing the expression (emotional content (Bhaav))of the Shabad
B32: Shabad-alaap (Alaap using the words of the shabad, rendered in a manner that enhances the emotion of the shabad and is not to merely exhibit musical skills). Aakaar alaap not used.
B33: Taan using words of the shabad - Sparingly used to enhance the expression of the shabad (not used to exhibit musical skills shabad).
B34: Pronunciation (shoodh uchaaran) and memorization of shabad
B35: SHSI: (accuracy of sur, taal and laiy)
B36: Tabla player's skill - consistency in bol and theka, and appropriate variations, enhancing the expression of the shabad

Sheet Sheet2
A1: =Sheet1!A1 -> Keertan Darbar XXXX | M1: Scoring Sheet
A2: =Sheet1!A2 -> Raag: _____ | C2: =Sheet1!C2 -> Group: ____ | H2: =Sheet1!H2 -> Age Range: _____ | M2: Judge 2:
A3: S No | B3: Jattha | C3: Explanation of shabad (punjabi and english). | D3: Shaan | E3: Manglacharan | F3: Shabad Recitation | L3: Overall | M3: Total | N3: Mandatory Rules (Y/N) | T3: Excess time Penalty | U3: Net Marks
F4: Vocal skills | G4: shabad alaap | H4: taan | I4: Pronunciation | J4: SHSI (accuracy of sur, taal ans lay) | K4: Tabla player's skill | N4: Manglacharan sung in accordance with KD Rules | O4: Shabad sung in accordance with KD Rules | P4: Aaakar alaap not used. | Q4: sathaee sung in accordance with KD Rules | R4: no parmaans. | S4: if multiple padas, sang contiguous padas.
B5: Maximum Marks | C5: 5 | D5: 10 | E5: 5 | F5: 20 | G5: 5 | H5: 5 | I5: 10 | J5: 15 | K5: 15 | L5: 10 | M5: =SUM(C5:L5) -> 100
A6: 1 | B6: =Sheet1!B6 -> Rahao: JATTHA: | M6: =SUM(C6:L6) -> 0 | T6: =Time!E5 -> 0 | U6: =M6-T6 -> 0
A7: 2 | B7: =Sheet1!B7 -> Rahao: JATTHA: | M7: =SUM(C7:L7) -> 0 | T7: =Time!E6 -> 0 | U7: =M7-T7 -> 0
A8: 3 | B8: =Sheet1!B8 -> Rahao: JATTHA: | M8: =SUM(C8:L8) -> 0 | T8: =Time!E7 -> 0 | U8: =M8-T8 -> 0
A9: 4 | B9: =Sheet1!B9 -> Rahao: JATTHA: | M9: =SUM(C9:L9) -> 0 | T9: =Time!E8 -> 0 | U9: =M9-T9 -> 0
A10: 5 | B10: =Sheet1!B10 -> Rahao: JATTHA: | M10: =SUM(C10:L10) -> 0 | T10: =Time!E9 -> 0 | U10: =M10-T10 -> 0
A11: 6 | B11: =Sheet1!B11 -> Rahao: JATTHA: | M11: =SUM(C11:L11) -> 0 | T11: =Time!E10 -> 0 | U11: =M11-T11 -> 0
A12: 7 | B12: =Sheet1!B12 -> Rahao: JATTHA: | M12: =SUM(C12:L12) -> 0 | T12: =Time!E11 -> 0 | U12: =M12-T12 -> 0
A13: 8 | B13: Rahao: JATTHA: | M13: =SUM(C13:L13) -> 0 | T13: =Time!E12 -> 0 | U13: =M13-T13 -> 0
A14: 9 | B14: Rahao: JATTHA: | M14: =SUM(C14:L14) -> 0 | T14: =Time!E13 -> 0 | U14: =M14-T14 -> 0
A15: 10 | B15: Rahao: JATTHA: | M15: =SUM(C15:L15) -> 0 | T15: =Time!E14 -> 0 | U15: =M15-T15 -> 0
A16: 11 | B16: Rahao: JATTHA: | M16: =SUM(C16:L16) -> 0 | T16: =Time!E15 -> 0 | U16: =M16-T16 -> 0
A17: 12 | B17: Rahao: JATTHA: | M17: =SUM(C17:L17) -> 0 | T17: =Time!E16 -> 0 | U17: =M17-T17 -> 0
A18: 13 | B18: Rahao: JATTHA: | M18: =SUM(C18:L18) -> 0 | T18: =Time!E17 -> 0 | U18: =M18-T18 -> 0
A19: 14 | B19: Rahao: JATTHA: | M19: =SUM(C19:L19) -> 0 | T19: =Time!E18 -> 0 | U19: =M19-T19 -> 0
A20: 15 | B20: Rahao: JATTHA: | M20: =SUM(C20:L20) -> 0 | T20: =Time!E19 -> 0 | U20: =M20-T20 -> 0
A21: 16 | B21: Rahao: JATTHA: | M21: =SUM(C21:L21) -> 0 | T21: =Time!E20 -> 0 | U21: =M21-T21 -> 0
A22: 17 | B22: Rahao: JATTHA: | M22: =SUM(C22:L22) -> 0 | T22: =Time!E21 -> 0 | U22: =M22-T22 -> 0
A23: 18 | B23: Rahao: JATTHA: | M23: =SUM(C23:L23) -> 0 | T23: =Time!E22 -> 0 | U23: =M23-T23 -> 0
A24: 19 | B24: Rahao: JATTHA: | M24: =SUM(C24:L24) -> 0 | T24: =Time!E23 -> 0 | U24: =M24-T24 -> 0
A25: 20 | B25: Rahao: JATTHA: | M25: =SUM(C25:L25) -> 0 | T25: =Time!E24 -> 0 | U25: =M25-T25 -> 0
B27: Judge: _________________________________
B29: Shaan (Instrumental Prelude - Invocation) in assigned raag- SHSI – string instruments: (accuracy of sur, taal and laiy); Tabla (taal, clarity, laiy); - Bhaav of the raag
B30: Mangalacharan (Invocation) in assigned raag - Vocals; Instruments (SHSI and Tabla) ; Expression (in singing and playing) of emotional content (bhaav) of the raag
B31: Vocal Skills - Accuracy of Raag, Sur and Taal enhancing the expression (emotional content (Bhaav))of the Shabad
B32: Shabad-alaap (Alaap using the words of the shabad, rendered in a manner that enhances the emotion of the shabad and is not to merely exhibit musical skills). Aakaar alaap not used.
B33: Taan using words of the shabad - Sparingly used to enhance the expression of the shabad (not used to exhibit musical skills shabad).
B34: Pronunciation (shoodh uchaaran) and memorization of shabad
B35: SHSI: (accuracy of sur, taal and laiy)
B36: Tabla player's skill - consistency in bol and theka, and appropriate variations, enhancing the expression of the shabad

Sheet Sheet3
A1: =Sheet1!A1 -> Keertan Darbar XXXX | M1: Scoring Sheet
A2: =Sheet1!A2 -> Raag: _____ | C2: =Sheet1!C2 -> Group: ____ | H2: =Sheet1!H2 -> Age Range: _____ | M2: Judge 3:
A3: S No | B3: Jattha | C3: Explanation of shabad (punjabi and english). | D3: Shaan | E3: Manglacharan | F3: Shabad Recitation | L3: Overall | M3: Total | N3: Mandatory Rules (Y/N) | T3: Excess time Penalty | U3: Net Marks
F4: Vocal skills | G4: shabad alaap | H4: taan | I4: Pronunciation | J4: SHSI (accuracy of sur, taal ans lay) | K4: Tabla player's skill | N4: Manglacharan sung in accordance with KD Rules | O4: Shabad sung in accordance with KD Rules | P4: Aaakar alaap not used. | Q4: sathaee sung in accordance with KD Rules | R4: no parmaans. | S4: if multiple padas, sang contiguous padas.
B5: Maximum Marks | C5: 5 | D5: 10 | E5: 5 | F5: 20 | G5: 5 | H5: 5 | I5: 10 | J5: 15 | K5: 15 | L5: 10 | M5: =SUM(C5:L5) -> 100
A6: 1 | B6: =Sheet1!B6 -> Rahao: JATTHA: | M6: =SUM(C6:L6) -> 0 | T6: =Time!E5 -> 0 | U6: =M6-T6 -> 0
A7: 2 | B7: =Sheet1!B7 -> Rahao: JATTHA: | M7: =SUM(C7:L7) -> 0 | T7: =Time!E6 -> 0 | U7: =M7-T7 -> 0
A8: 3 | B8: =Sheet1!B8 -> Rahao: JATTHA: | M8: =SUM(C8:L8) -> 0 | T8: =Time!E7 -> 0 | U8: =M8-T8 -> 0
A9: 4 | B9: =Sheet1!B9 -> Rahao: JATTHA: | M9: =SUM(C9:L9) -> 0 | T9: =Time!E8 -> 0 | U9: =M9-T9 -> 0
A10: 5 | B10: =Sheet1!B10 -> Rahao: JATTHA: | M10: =SUM(C10:L10) -> 0 | T10: =Time!E9 -> 0 | U10: =M10-T10 -> 0
A11: 6 | B11: =Sheet1!B11 -> Rahao: JATTHA: | M11: =SUM(C11:L11) -> 0 | T11: =Time!E10 -> 0 | U11: =M11-T11 -> 0
A12: 7 | B12: =Sheet1!B12 -> Rahao: JATTHA: | M12: =SUM(C12:L12) -> 0 | T12: =Time!E11 -> 0 | U12: =M12-T12 -> 0
A13: 8 | B13: Rahao: JATTHA: | M13: =SUM(C13:L13) -> 0 | T13: =Time!E12 -> 0 | U13: =M13-T13 -> 0
A14: 9 | B14: Rahao: JATTHA: | M14: =SUM(C14:L14) -> 0 | T14: =Time!E13 -> 0 | U14: =M14-T14 -> 0
A15: 10 | B15: Rahao: JATTHA: | M15: =SUM(C15:L15) -> 0 | T15: =Time!E14 -> 0 | U15: =M15-T15 -> 0
A16: 11 | B16: Rahao: JATTHA: | M16: =SUM(C16:L16) -> 0 | T16: =Time!E15 -> 0 | U16: =M16-T16 -> 0
A17: 12 | B17: Rahao: JATTHA: | M17: =SUM(C17:L17) -> 0 | T17: =Time!E16 -> 0 | U17: =M17-T17 -> 0
A18: 13 | B18: Rahao: JATTHA: | M18: =SUM(C18:L18) -> 0 | T18: =Time!E17 -> 0 | U18: =M18-T18 -> 0
A19: 14 | B19: Rahao: JATTHA: | M19: =SUM(C19:L19) -> 0 | T19: =Time!E18 -> 0 | U19: =M19-T19 -> 0
A20: 15 | B20: Rahao: JATTHA: | M20: =SUM(C20:L20) -> 0 | T20: =Time!E19 -> 0 | U20: =M20-T20 -> 0
A21: 16 | B21: Rahao: JATTHA: | M21: =SUM(C21:L21) -> 0 | T21: =Time!E20 -> 0 | U21: =M21-T21 -> 0
A22: 17 | B22: Rahao: JATTHA: | M22: =SUM(C22:L22) -> 0 | T22: =Time!E21 -> 0 | U22: =M22-T22 -> 0
A23: 18 | B23: Rahao: JATTHA: | M23: =SUM(C23:L23) -> 0 | T23: =Time!E22 -> 0 | U23: =M23-T23 -> 0
A24: 19 | B24: Rahao: JATTHA: | M24: =SUM(C24:L24) -> 0 | T24: =Time!E23 -> 0 | U24: =M24-T24 -> 0
A25: 20 | B25: Rahao: JATTHA: | M25: =SUM(C25:L25) -> 0 | T25: =Time!E24 -> 0 | U25: =M25-T25 -> 0
B27: Judge: _________________________________
B29: Shaan (Instrumental Prelude - Invocation) in assigned raag- SHSI – string instruments: (accuracy of sur, taal and laiy); Tabla (taal, clarity, laiy); - Bhaav of the raag
B30: Mangalacharan (Invocation) in assigned raag - Vocals; Instruments (SHSI and Tabla) ; Expression (in singing and playing) of emotional content (bhaav) of the raag
B31: Vocal Skills - Accuracy of Raag, Sur and Taal enhancing the expression (emotional content (Bhaav))of the Shabad
B32: Shabad-alaap (Alaap using the words of the shabad, rendered in a manner that enhances the emotion of the shabad and is not to merely exhibit musical skills). Aakaar alaap not used.
B33: Taan using words of the shabad - Sparingly used to enhance the expression of the shabad (not used to exhibit musical skills shabad).
B34: Pronunciation (shoodh uchaaran) and memorization of shabad
B35: SHSI: (accuracy of sur, taal and laiy)
B36: Tabla player's skill - consistency in bol and theka, and appropriate variations, enhancing the expression of the shabad

Sheet Ranking Regional
B1: ੧ਓ ਸਤਿਗੁਰ ਪ੍ਰਸਾਦਿ Sri Hemkunt Foundation Inc. 107 Lipton Lane, Williston Park NY 11596 (516) 782-3257 | I1: Date: | J1: Regional Ranking
B3: Jattha | C3: Judge 1 | E3: Judge 2 | G3: Judge 3 | I3: Rank J1+J2+J3 | J3: Overall Rank
C4: total | D4: rank | E4: total | F4: rank | G4: total | H4: rank
A5: 1 | B5: =Sheet1!B6 -> Rahao: JATTHA: | C5: =Sheet1!U6 -> 0 | D5: =RANK(C5,$C$5:$C$24,0) -> 1 | E5: =Sheet2!U6 -> 0 | F5: =RANK(E5,$E$5:$E$24,0) -> 1 | G5: =Sheet3!U6 -> 0 | H5: =RANK(G5,$G$5:$G$24,0) -> 1 | I5: =IF(C5="","",D5+F5+H5) -> 3 | J5: =RANK(I5,$I$5:$I$24,1) -> 1
A6: 2 | B6: =Sheet1!B7 -> Rahao: JATTHA: | C6: =Sheet1!U7 -> 0 | D6: =RANK(C6,$C$5:$C$24,0) -> 1 | E6: =Sheet2!U7 -> 0 | F6: =RANK(E6,$E$5:$E$24,0) -> 1 | G6: =Sheet3!U7 -> 0 | H6: =RANK(G6,$G$5:$G$24,0) -> 1 | I6: =IF(C6="","",D6+F6+H6) -> 3 | J6: =RANK(I6,$I$5:$I$24,1) -> 1
A7: 3 | B7: =Sheet1!B8 -> Rahao: JATTHA: | C7: =Sheet1!U8 -> 0 | D7: =RANK(C7,$C$5:$C$24,0) -> 1 | E7: =Sheet2!U8 -> 0 | F7: =RANK(E7,$E$5:$E$24,0) -> 1 | G7: =Sheet3!U8 -> 0 | H7: =RANK(G7,$G$5:$G$24,0) -> 1 | I7: =IF(C7="","",D7+F7+H7) -> 3 | J7: =RANK(I7,$I$5:$I$24,1) -> 1
A8: 4 | B8: =Sheet1!B9 -> Rahao: JATTHA: | C8: =Sheet1!U9 -> 0 | D8: =RANK(C8,$C$5:$C$24,0) -> 1 | E8: =Sheet2!U9 -> 0 | F8: =RANK(E8,$E$5:$E$24,0) -> 1 | G8: =Sheet3!U9 -> 0 | H8: =RANK(G8,$G$5:$G$24,0) -> 1 | I8: =IF(C8="","",D8+F8+H8) -> 3 | J8: =RANK(I8,$I$5:$I$24,1) -> 1
A9: 5 | B9: =Sheet1!B10 -> Rahao: JATTHA: | C9: =Sheet1!U10 -> 0 | D9: =RANK(C9,$C$5:$C$24,0) -> 1 | E9: =Sheet2!U10 -> 0 | F9: =RANK(E9,$E$5:$E$24,0) -> 1 | G9: =Sheet3!U10 -> 0 | H9: =RANK(G9,$G$5:$G$24,0) -> 1 | I9: =IF(C9="","",D9+F9+H9) -> 3 | J9: =RANK(I9,$I$5:$I$24,1) -> 1
A10: 6 | B10: =Sheet1!B11 -> Rahao: JATTHA: | C10: =Sheet1!U11 -> 0 | D10: =RANK(C10,$C$5:$C$24,0) -> 1 | E10: =Sheet2!U11 -> 0 | F10: =RANK(E10,$E$5:$E$24,0) -> 1 | G10: =Sheet3!U11 -> 0 | H10: =RANK(G10,$G$5:$G$24,0) -> 1 | I10: =IF(C10="","",D10+F10+H10) -> 3 | J10: =RANK(I10,$I$5:$I$24,1) -> 1
A11: 7 | B11: =Sheet1!B12 -> Rahao: JATTHA: | C11: =Sheet1!U12 -> 0 | D11: =RANK(C11,$C$5:$C$24,0) -> 1 | E11: =Sheet2!U12 -> 0 | F11: =RANK(E11,$E$5:$E$24,0) -> 1 | G11: =Sheet3!U12 -> 0 | H11: =RANK(G11,$G$5:$G$24,0) -> 1 | I11: =IF(C11="","",D11+F11+H11) -> 3 | J11: =RANK(I11,$I$5:$I$24,1) -> 1
A12: 8 | B12: =Sheet1!B13 -> Rahao: JATTHA: | C12: =Sheet1!U13 -> 0 | D12: =RANK(C12,$C$5:$C$24,0) -> 1 | E12: =Sheet2!U13 -> 0 | F12: =RANK(E12,$E$5:$E$24,0) -> 1 | G12: =Sheet3!U13 -> 0 | H12: =RANK(G12,$G$5:$G$24,0) -> 1 | I12: =IF(C12="","",D12+F12+H12) -> 3 | J12: =RANK(I12,$I$5:$I$24,1) -> 1
A13: 9 | B13: =Sheet1!B14 -> Rahao: JATTHA: | C13: =Sheet1!U14 -> 0 | D13: =RANK(C13,$C$5:$C$24,0) -> 1 | E13: =Sheet2!U14 -> 0 | F13: =RANK(E13,$E$5:$E$24,0) -> 1 | G13: =Sheet3!U14 -> 0 | H13: =RANK(G13,$G$5:$G$24,0) -> 1 | I13: =IF(C13="","",D13+F13+H13) -> 3 | J13: =RANK(I13,$I$5:$I$24,1) -> 1
A14: 10 | B14: =Sheet1!B15 -> Rahao: JATTHA: | C14: =Sheet1!U15 -> 0 | D14: =RANK(C14,$C$5:$C$24,0) -> 1 | E14: =Sheet2!U15 -> 0 | F14: =RANK(E14,$E$5:$E$24,0) -> 1 | G14: =Sheet3!U15 -> 0 | H14: =RANK(G14,$G$5:$G$24,0) -> 1 | I14: =IF(C14="","",D14+F14+H14) -> 3 | J14: =RANK(I14,$I$5:$I$24,1) -> 1
A15: 11 | B15: =Sheet1!B16 -> Rahao: JATTHA: | C15: =Sheet1!U16 -> 0 | D15: =RANK(C15,$C$5:$C$24,0) -> 1 | E15: =Sheet2!U16 -> 0 | F15: =RANK(E15,$E$5:$E$24,0) -> 1 | G15: =Sheet3!U16 -> 0 | H15: =RANK(G15,$G$5:$G$24,0) -> 1 | I15: =IF(C15="","",D15+F15+H15) -> 3 | J15: =RANK(I15,$I$5:$I$24,1) -> 1
A16: 12 | B16: =Sheet1!B17 -> Rahao: JATTHA: | C16: =Sheet1!U17 -> 0 | D16: =RANK(C16,$C$5:$C$24,0) -> 1 | E16: =Sheet2!U17 -> 0 | F16: =RANK(E16,$E$5:$E$24,0) -> 1 | G16: =Sheet3!U17 -> 0 | H16: =RANK(G16,$G$5:$G$24,0) -> 1 | I16: =IF(C16="","",D16+F16+H16) -> 3 | J16: =RANK(I16,$I$5:$I$24,1) -> 1
... A24: 20 | B24: =Sheet1!B25 -> Rahao: JATTHA: | C24: =Sheet1!U25 -> 0 | D24: =RANK(C24,$C$5:$C$24,0) -> 1 | E24: =Sheet2!U25 -> 0 | F24: =RANK(E24,$E$5:$E$24,0) -> 1 | G24: =Sheet3!U25 -> 0 | H24: =RANK(G24,$G$5:$G$24,0) -> 1 | I24: =IF(C24="","",D24+F24+H24) -> 3 | J24: =RANK(I24,$I$5:$I$24,1) -> 1
D28: `

Sheet Ranking Int'l
B1: ੧ਓ ਸਤਿਗੁਰ ਪ੍ਰਸਾਦਿ Sri Hemkunt Foundation Inc. 107 Lipton Lane, Williston Park NY 11596 (516) 782-3257 | I1: Date: | J1: Int'l Ranking
B3: Jattha | C3: Judge 1 | E3: Judge 2 | G3: Judge 3 | I3: Rank J1+J2+J3 | J3: Overall Rank | K3: Certificate
C4: total | D4: rank | E4: total | F4: rank | G4: total | H4: rank
A5: 1 | B5: =Sheet1!B6 -> Rahao: JATTHA: | C5: =Sheet1!U6 -> 0 | D5: =RANK(C5,$C$5:$C$24,0) -> 1 | E5: =Sheet2!U6 -> 0 | F5: =RANK(E5,$E$5:$E$24,0) -> 1 | G5: =Sheet3!U6 -> 0 | H5: =RANK(G5,$G$5:$G$24,0) -> 1 | I5: =IF(C5="","",D5+F5+H5) -> 3 | J5: =RANK(I5,$I$5:$I$24,1) -> 1
A6: 2 | B6: =Sheet1!B7 -> Rahao: JATTHA: | C6: =Sheet1!U7 -> 0 | D6: =RANK(C6,$C$5:$C$24,0) -> 1 | E6: =Sheet2!U7 -> 0 | F6: =RANK(E6,$E$5:$E$24,0) -> 1 | G6: =Sheet3!U7 -> 0 | H6: =RANK(G6,$G$5:$G$24,0) -> 1 | I6: =IF(C6="","",D6+F6+H6) -> 3 | J6: =RANK(I6,$I$5:$I$24,1) -> 1
A7: 3 | B7: =Sheet1!B8 -> Rahao: JATTHA: | C7: =Sheet1!U8 -> 0 | D7: =RANK(C7,$C$5:$C$24,0) -> 1 | E7: =Sheet2!U8 -> 0 | F7: =RANK(E7,$E$5:$E$24,0) -> 1 | G7: =Sheet3!U8 -> 0 | H7: =RANK(G7,$G$5:$G$24,0) -> 1 | I7: =IF(C7="","",D7+F7+H7) -> 3 | J7: =RANK(I7,$I$5:$I$24,1) -> 1
A8: 4 | B8: =Sheet1!B9 -> Rahao: JATTHA: | C8: =Sheet1!U9 -> 0 | D8: =RANK(C8,$C$5:$C$24,0) -> 1 | E8: =Sheet2!U9 -> 0 | F8: =RANK(E8,$E$5:$E$24,0) -> 1 | G8: =Sheet3!U9 -> 0 | H8: =RANK(G8,$G$5:$G$24,0) -> 1 | I8: =IF(C8="","",D8+F8+H8) -> 3 | J8: =RANK(I8,$I$5:$I$24,1) -> 1
A9: 5 | B9: =Sheet1!B10 -> Rahao: JATTHA: | C9: =Sheet1!U10 -> 0 | D9: =RANK(C9,$C$5:$C$24,0) -> 1 | E9: =Sheet2!U10 -> 0 | F9: =RANK(E9,$E$5:$E$24,0) -> 1 | G9: =Sheet3!U10 -> 0 | H9: =RANK(G9,$G$5:$G$24,0) -> 1 | I9: =IF(C9="","",D9+F9+H9) -> 3 | J9: =RANK(I9,$I$5:$I$24,1) -> 1
A10: 6 | B10: =Sheet1!B11 -> Rahao: JATTHA: | C10: =Sheet1!U11 -> 0 | D10: =RANK(C10,$C$5:$C$24,0) -> 1 | E10: =Sheet2!U11 -> 0 | F10: =RANK(E10,$E$5:$E$24,0) -> 1 | G10: =Sheet3!U11 -> 0 | H10: =RANK(G10,$G$5:$G$24,0) -> 1 | I10: =IF(C10="","",D10+F10+H10) -> 3 | J10: =RANK(I10,$I$5:$I$24,1) -> 1
A11: 7 | B11: =Sheet1!B12 -> Rahao: JATTHA: | C11: =Sheet1!U12 -> 0 | D11: =RANK(C11,$C$5:$C$24,0) -> 1 | E11: =Sheet2!U12 -> 0 | F11: =RANK(E11,$E$5:$E$24,0) -> 1 | G11: =Sheet3!U12 -> 0 | H11: =RANK(G11,$G$5:$G$24,0) -> 1 | I11: =IF(C11="","",D11+F11+H11) -> 3 | J11: =RANK(I11,$I$5:$I$24,1) -> 1
A12: 8 | B12: =Sheet1!B13 -> Rahao: JATTHA: | C12: =Sheet1!U13 -> 0 | D12: =RANK(C12,$C$5:$C$24,0) -> 1 | E12: =Sheet2!U13 -> 0 | F12: =RANK(E12,$E$5:$E$24,0) -> 1 | G12: =Sheet3!U13 -> 0 | H12: =RANK(G12,$G$5:$G$24,0) -> 1 | I12: =IF(C12="","",D12+F12+H12) -> 3 | J12: =RANK(I12,$I$5:$I$24,1) -> 1
A13: 9 | B13: =Sheet1!B14 -> Rahao: JATTHA: | C13: =Sheet1!U14 -> 0 | D13: =RANK(C13,$C$5:$C$24,0) -> 1 | E13: =Sheet2!U14 -> 0 | F13: =RANK(E13,$E$5:$E$24,0) -> 1 | G13: =Sheet3!U14 -> 0 | H13: =RANK(G13,$G$5:$G$24,0) -> 1 | I13: =IF(C13="","",D13+F13+H13) -> 3 | J13: =RANK(I13,$I$5:$I$24,1) -> 1
A14: 10 | B14: =Sheet1!B15 -> Rahao: JATTHA: | C14: =Sheet1!U15 -> 0 | D14: =RANK(C14,$C$5:$C$24,0) -> 1 | E14: =Sheet2!U15 -> 0 | F14: =RANK(E14,$E$5:$E$24,0) -> 1 | G14: =Sheet3!U15 -> 0 | H14: =RANK(G14,$G$5:$G$24,0) -> 1 | I14: =IF(C14="","",D14+F14+H14) -> 3 | J14: =RANK(I14,$I$5:$I$24,1) -> 1
A15: 11 | B15: =Sheet1!B16 -> Rahao: JATTHA: | C15: =Sheet1!U16 -> 0 | D15: =RANK(C15,$C$5:$C$24,0) -> 1 | E15: =Sheet2!U16 -> 0 | F15: =RANK(E15,$E$5:$E$24,0) -> 1 | G15: =Sheet3!U16 -> 0 | H15: =RANK(G15,$G$5:$G$24,0) -> 1 | I15: =IF(C15="","",D15+F15+H15) -> 3 | J15: =RANK(I15,$I$5:$I$24,1) -> 1
A16: 12 | B16: =Sheet1!B17 -> Rahao: JATTHA: | C16: =Sheet1!U17 -> 0 | D16: =RANK(C16,$C$5:$C$24,0) -> 1 | E16: =Sheet2!U17 -> 0 | F16: =RANK(E16,$E$5:$E$24,0) -> 1 | G16: =Sheet3!U17 -> 0 | H16: =RANK(G16,$G$5:$G$24,0) -> 1 | I16: =IF(C16="","",D16+F16+H16) -> 3 | J16: =RANK(I16,$I$5:$I$24,1) -> 1
... A24: 20 | B24: =Sheet1!B25 -> Rahao: JATTHA: | C24: =Sheet1!U25 -> 0 | D24: =RANK(C24,$C$5:$C$24,0) -> 1 | E24: =Sheet2!U25 -> 0 | F24: =RANK(E24,$E$5:$E$24,0) -> 1 | G24: =Sheet3!U25 -> 0 | H24: =RANK(G24,$G$5:$G$24,0) -> 1 | I24: =IF(C24="","",D24+F24+H24) -> 3 | J24: =RANK(I24,$I$5:$I$24,1) -> 1
A26: 1. Sum of ranking by all judges will be used to determine certificate as follows:
B27: 1. Gold - one third of the total Jatthas with lowest sum of the rankings.
B28: 2. Silver - one third of the total Jatthas with the next lowest sum of rankings.
B29: 3. Bronze - to remaining Jatthas.
B30: 4. Participating - Jattha (s) violating “Mandatory Rules” listed on the Score Sheets.
A31: 2. While calculating one third, the fraction should be rounded up to the next whole number. For example, 7÷3=2.33 shall be rounded up to 3.

Sheet Time
B1: ੧ਓ ਸਤਿਗੁਰ ਪ੍ਰਸਾਦਿ Sri Hemkunt Foundation Inc. 107 Lipton Lane, Williston Park NY 11596 (516) 782-3257 | D1: Date: | F1: Time Keeping
B3: Jattha | C3: Actual Time taken | D3: Excess time | E3: Penalty | F3: Comments
B4: Light Flashing @ 13 min Light On @ 15min Light Off @ 15:30min
A5: 1 | B5: =Sheet1!B6 -> Rahao: JATTHA:
A6: 2 | B6: =Sheet1!B7 -> Rahao: JATTHA:
A7: 3 | B7: =Sheet1!B8 -> Rahao: JATTHA:
A8: 4 | B8: =Sheet1!B9 -> Rahao: JATTHA:
A9: 5 | B9: =Sheet1!B10 -> Rahao: JATTHA:
A10: 6 | B10: =Sheet1!B11 -> Rahao: JATTHA:
A11: 7 | B11: =Sheet1!B12 -> Rahao: JATTHA:
A12: 8 | B12: =Sheet1!B13 -> Rahao: JATTHA:
A13: 9 | B13: =Sheet1!B14 -> Rahao: JATTHA:
A14: 10 | B14: =Sheet1!B15 -> Rahao: JATTHA:
A15: 11 | B15: =Sheet1!B16 -> Rahao: JATTHA:
A16: 12 | B16: =Sheet1!B17 -> Rahao: JATTHA:
... A24: 20 | B24: =Sheet1!B25 -> Rahao: JATTHA:
B26: Time Keeper_________________________________

Sheet Average
A1: Keertan Darbar XXXX | M1: Average Marks
A2: Raag: _____ | C2: Group: ____ | H2: Age Range: _____ | M2: Judge 1:
A3: S No | B3: Jattha | C3: Explanation of shabad (punjabi and english). | D3: Shaan | E3: Manglacharan | F3: Shabad Recitation | L3: Overall | M3: Total | N3: Excess time Penalty | O3: Net Marks
F4: Vocal skills | G4: shabad alaap | H4: taan | I4: Pronunciation | J4: SHSI (accuracy of sur, taal ans lay) | K4: Tabla player's skill
B5: Maximum Marks | C5: 5 | D5: 10 | E5: 5 | F5: 20 | G5: 5 | H5: 5 | I5: 10 | J5: 15 | K5: 15 | L5: 10 | M5: =SUM(C5:L5) -> 100
A6: 1 | B6: Rahao: JATTHA: | C6: =(Sheet1!C6+Sheet2!C6+Sheet3!C6)/3 -> 0 | D6: =(Sheet1!D6+Sheet2!D6+Sheet3!D6)/3 -> 0 | E6: =(Sheet1!E6+Sheet2!E6+Sheet3!E6)/3 -> 0 | F6: =(Sheet1!F6+Sheet2!F6+Sheet3!F6)/3 -> 0 | G6: =(Sheet1!G6+Sheet2!G6+Sheet3!G6)/3 -> 0 | H6: =(Sheet1!H6+Sheet2!H6+Sheet3!H6)/3 -> 0 | I6: =(Sheet1!I6+Sheet2!I6+Sheet3!I6)/3 -> 0 | J6: =(Sheet1!J6+Sheet2!J6+Sheet3!J6)/3 -> 0 | ... L6: =(Sheet1!L6+Sheet2!L6+Sheet3!L6)/3 -> 0 | M6: =SUM(C6:L6) -> 0 | N6: =Time!E5 -> 0 | O6: =M6-N6 -> 0
A7: 2 | B7: Rahao: JATTHA: | C7: =(Sheet1!C7+Sheet2!C7+Sheet3!C7)/3 -> 0 | D7: =(Sheet1!D7+Sheet2!D7+Sheet3!D7)/3 -> 0 | E7: =(Sheet1!E7+Sheet2!E7+Sheet3!E7)/3 -> 0 | F7: =(Sheet1!F7+Sheet2!F7+Sheet3!F7)/3 -> 0 | G7: =(Sheet1!G7+Sheet2!G7+Sheet3!G7)/3 -> 0 | H7: =(Sheet1!H7+Sheet2!H7+Sheet3!H7)/3 -> 0 | I7: =(Sheet1!I7+Sheet2!I7+Sheet3!I7)/3 -> 0 | J7: =(Sheet1!J7+Sheet2!J7+Sheet3!J7)/3 -> 0 | ... L7: =(Sheet1!L7+Sheet2!L7+Sheet3!L7)/3 -> 0 | M7: =SUM(C7:L7) -> 0 | N7: =Time!E6 -> 0 | O7: =M7-N7 -> 0
A8: 3 | B8: Rahao: JATTHA: | C8: =(Sheet1!C8+Sheet2!C8+Sheet3!C8)/3 -> 0 | D8: =(Sheet1!D8+Sheet2!D8+Sheet3!D8)/3 -> 0 | E8: =(Sheet1!E8+Sheet2!E8+Sheet3!E8)/3 -> 0 | F8: =(Sheet1!F8+Sheet2!F8+Sheet3!F8)/3 -> 0 | G8: =(Sheet1!G8+Sheet2!G8+Sheet3!G8)/3 -> 0 | H8: =(Sheet1!H8+Sheet2!H8+Sheet3!H8)/3 -> 0 | I8: =(Sheet1!I8+Sheet2!I8+Sheet3!I8)/3 -> 0 | J8: =(Sheet1!J8+Sheet2!J8+Sheet3!J8)/3 -> 0 | ... L8: =(Sheet1!L8+Sheet2!L8+Sheet3!L8)/3 -> 0 | M8: =SUM(C8:L8) -> 0 | N8: =Time!E7 -> 0 | O8: =M8-N8 -> 0
A9: 4 | B9: Rahao: JATTHA: | C9: =(Sheet1!C9+Sheet2!C9+Sheet3!C9)/3 -> 0 | D9: =(Sheet1!D9+Sheet2!D9+Sheet3!D9)/3 -> 0 | E9: =(Sheet1!E9+Sheet2!E9+Sheet3!E9)/3 -> 0 | F9: =(Sheet1!F9+Sheet2!F9+Sheet3!F9)/3 -> 0 | G9: =(Sheet1!G9+Sheet2!G9+Sheet3!G9)/3 -> 0 | H9: =(Sheet1!H9+Sheet2!H9+Sheet3!H9)/3 -> 0 | I9: =(Sheet1!I9+Sheet2!I9+Sheet3!I9)/3 -> 0 | J9: =(Sheet1!J9+Sheet2!J9+Sheet3!J9)/3 -> 0 | ... L9: =(Sheet1!L9+Sheet2!L9+Sheet3!L9)/3 -> 0 | M9: =SUM(C9:L9) -> 0 | N9: =Time!E8 -> 0 | O9: =M9-N9 -> 0
A10: 5 | B10: Rahao: JATTHA: | C10: =(Sheet1!C10+Sheet2!C10+Sheet3!C10)/3 -> 0 | D10: =(Sheet1!D10+Sheet2!D10+Sheet3!D10)/3 -> 0 | E10: =(Sheet1!E10+Sheet2!E10+Sheet3!E10)/3 -> 0 | F10: =(Sheet1!F10+Sheet2!F10+Sheet3!F10)/3 -> 0 | G10: =(Sheet1!G10+Sheet2!G10+Sheet3!G10)/3 -> 0 | H10: =(Sheet1!H10+Sheet2!H10+Sheet3!H10)/3 -> 0 | I10: =(Sheet1!I10+Sheet2!I10+Sheet3!I10)/3 -> 0 | J10: =(Sheet1!J10+Sheet2!J10+Sheet3!J10)/3 -> 0 | ... L10: =(Sheet1!L10+Sheet2!L10+Sheet3!L10)/3 -> 0 | M10: =SUM(C10:L10) -> 0 | N10: =Time!E9 -> 0 | O10: =M10-N10 -> 0
A11: 6 | B11: Rahao: JATTHA: | C11: =(Sheet1!C11+Sheet2!C11+Sheet3!C11)/3 -> 0 | D11: =(Sheet1!D11+Sheet2!D11+Sheet3!D11)/3 -> 0 | E11: =(Sheet1!E11+Sheet2!E11+Sheet3!E11)/3 -> 0 | F11: =(Sheet1!F11+Sheet2!F11+Sheet3!F11)/3 -> 0 | G11: =(Sheet1!G11+Sheet2!G11+Sheet3!G11)/3 -> 0 | H11: =(Sheet1!H11+Sheet2!H11+Sheet3!H11)/3 -> 0 | I11: =(Sheet1!I11+Sheet2!I11+Sheet3!I11)/3 -> 0 | J11: =(Sheet1!J11+Sheet2!J11+Sheet3!J11)/3 -> 0 | ... L11: =(Sheet1!L11+Sheet2!L11+Sheet3!L11)/3 -> 0 | M11: =SUM(C11:L11) -> 0 | N11: =Time!E10 -> 0 | O11: =M11-N11 -> 0
A12: 7 | B12: Rahao: JATTHA: | C12: =(Sheet1!C12+Sheet2!C12+Sheet3!C12)/3 -> 0 | D12: =(Sheet1!D12+Sheet2!D12+Sheet3!D12)/3 -> 0 | E12: =(Sheet1!E12+Sheet2!E12+Sheet3!E12)/3 -> 0 | F12: =(Sheet1!F12+Sheet2!F12+Sheet3!F12)/3 -> 0 | G12: =(Sheet1!G12+Sheet2!G12+Sheet3!G12)/3 -> 0 | H12: =(Sheet1!H12+Sheet2!H12+Sheet3!H12)/3 -> 0 | I12: =(Sheet1!I12+Sheet2!I12+Sheet3!I12)/3 -> 0 | J12: =(Sheet1!J12+Sheet2!J12+Sheet3!J12)/3 -> 0 | ... L12: =(Sheet1!L12+Sheet2!L12+Sheet3!L12)/3 -> 0 | M12: =SUM(C12:L12) -> 0 | N12: =Time!E11 -> 0 | O12: =M12-N12 -> 0
A13: 8 | B13: Rahao: JATTHA: | C13: =(Sheet1!C13+Sheet2!C13+Sheet3!C13)/3 -> 0 | D13: =(Sheet1!D13+Sheet2!D13+Sheet3!D13)/3 -> 0 | E13: =(Sheet1!E13+Sheet2!E13+Sheet3!E13)/3 -> 0 | F13: =(Sheet1!F13+Sheet2!F13+Sheet3!F13)/3 -> 0 | G13: =(Sheet1!G13+Sheet2!G13+Sheet3!G13)/3 -> 0 | H13: =(Sheet1!H13+Sheet2!H13+Sheet3!H13)/3 -> 0 | I13: =(Sheet1!I13+Sheet2!I13+Sheet3!I13)/3 -> 0 | J13: =(Sheet1!J13+Sheet2!J13+Sheet3!J13)/3 -> 0 | ... L13: =(Sheet1!L13+Sheet2!L13+Sheet3!L13)/3 -> 0 | M13: =SUM(C13:L13) -> 0 | N13: =Time!E12 -> 0 | O13: =M13-N13 -> 0
A14: 9 | B14: Rahao: JATTHA: | C14: =(Sheet1!C14+Sheet2!C14+Sheet3!C14)/3 -> 0 | D14: =(Sheet1!D14+Sheet2!D14+Sheet3!D14)/3 -> 0 | E14: =(Sheet1!E14+Sheet2!E14+Sheet3!E14)/3 -> 0 | F14: =(Sheet1!F14+Sheet2!F14+Sheet3!F14)/3 -> 0 | G14: =(Sheet1!G14+Sheet2!G14+Sheet3!G14)/3 -> 0 | H14: =(Sheet1!H14+Sheet2!H14+Sheet3!H14)/3 -> 0 | I14: =(Sheet1!I14+Sheet2!I14+Sheet3!I14)/3 -> 0 | J14: =(Sheet1!J14+Sheet2!J14+Sheet3!J14)/3 -> 0 | ... L14: =(Sheet1!L14+Sheet2!L14+Sheet3!L14)/3 -> 0 | M14: =SUM(C14:L14) -> 0 | N14: =Time!E13 -> 0 | O14: =M14-N14 -> 0
A15: 10 | B15: Rahao: JATTHA: | C15: =(Sheet1!C15+Sheet2!C15+Sheet3!C15)/3 -> 0 | D15: =(Sheet1!D15+Sheet2!D15+Sheet3!D15)/3 -> 0 | E15: =(Sheet1!E15+Sheet2!E15+Sheet3!E15)/3 -> 0 | F15: =(Sheet1!F15+Sheet2!F15+Sheet3!F15)/3 -> 0 | G15: =(Sheet1!G15+Sheet2!G15+Sheet3!G15)/3 -> 0 | H15: =(Sheet1!H15+Sheet2!H15+Sheet3!H15)/3 -> 0 | I15: =(Sheet1!I15+Sheet2!I15+Sheet3!I15)/3 -> 0 | J15: =(Sheet1!J15+Sheet2!J15+Sheet3!J15)/3 -> 0 | ... L15: =(Sheet1!L15+Sheet2!L15+Sheet3!L15)/3 -> 0 | M15: =SUM(C15:L15) -> 0 | N15: =Time!E14 -> 0 | O15: =M15-N15 -> 0
A16: 11 | B16: Rahao: JATTHA: | C16: =(Sheet1!C16+Sheet2!C16+Sheet3!C16)/3 -> 0 | D16: =(Sheet1!D16+Sheet2!D16+Sheet3!D16)/3 -> 0 | E16: =(Sheet1!E16+Sheet2!E16+Sheet3!E16)/3 -> 0 | F16: =(Sheet1!F16+Sheet2!F16+Sheet3!F16)/3 -> 0 | G16: =(Sheet1!G16+Sheet2!G16+Sheet3!G16)/3 -> 0 | H16: =(Sheet1!H16+Sheet2!H16+Sheet3!H16)/3 -> 0 | I16: =(Sheet1!I16+Sheet2!I16+Sheet3!I16)/3 -> 0 | J16: =(Sheet1!J16+Sheet2!J16+Sheet3!J16)/3 -> 0 | ... L16: =(Sheet1!L16+Sheet2!L16+Sheet3!L16)/3 -> 0 | M16: =SUM(C16:L16) -> 0 | N16: =Time!E15 -> 0 | O16: =M16-N16 -> 0
A17: 12 | B17: Rahao: JATTHA: | C17: =(Sheet1!C17+Sheet2!C17+Sheet3!C17)/3 -> 0 | D17: =(Sheet1!D17+Sheet2!D17+Sheet3!D17)/3 -> 0 | E17: =(Sheet1!E17+Sheet2!E17+Sheet3!E17)/3 -> 0 | F17: =(Sheet1!F17+Sheet2!F17+Sheet3!F17)/3 -> 0 | G17: =(Sheet1!G17+Sheet2!G17+Sheet3!G17)/3 -> 0 | H17: =(Sheet1!H17+Sheet2!H17+Sheet3!H17)/3 -> 0 | I17: =(Sheet1!I17+Sheet2!I17+Sheet3!I17)/3 -> 0 | J17: =(Sheet1!J17+Sheet2!J17+Sheet3!J17)/3 -> 0 | ... L17: =(Sheet1!L17+Sheet2!L17+Sheet3!L17)/3 -> 0 | M17: =SUM(C17:L17) -> 0 | N17: =Time!E16 -> 0 | O17: =M17-N17 -> 0
... A25: 20 | B25: Rahao: JATTHA: | C25: =(Sheet1!C25+Sheet2!C25+Sheet3!C25)/3 -> 0 | D25: =(Sheet1!D25+Sheet2!D25+Sheet3!D25)/3 -> 0 | E25: =(Sheet1!E25+Sheet2!E25+Sheet3!E25)/3 -> 0 | F25: =(Sheet1!F25+Sheet2!F25+Sheet3!F25)/3 -> 0 | G25: =(Sheet1!G25+Sheet2!G25+Sheet3!G25)/3 -> 0 | H25: =(Sheet1!H25+Sheet2!H25+Sheet3!H25)/3 -> 0 | I25: =(Sheet1!I25+Sheet2!I25+Sheet3!I25)/3 -> 0 | J25: =(Sheet1!J25+Sheet2!J25+Sheet3!J25)/3 -> 0 | ... L25: =(Sheet1!L25+Sheet2!L25+Sheet3!L25)/3 -> 0 | M25: =SUM(C25:L25) -> 0 | N25: =Time!E24 -> 0 | O25: =M25-N25 -> 0
B27: Judge: _________________________________
B29: Shaan (Instrumental Prelude - Invocation) in assigned raag- SHSI – string instruments: (accuracy of sur, taal and laiy); Tabla (taal, clarity, laiy); - Bhaav of the raag
B30: Mangalacharan (Invocation) in assigned raag - Vocals; Instruments (SHSI and Tabla) ; Expression (in singing and playing) of emotional content (bhaav) of the raag
B31: Vocal Skills - Accuracy of Raag, Sur and Taal enhancing the expression (emotional content (Bhaav))of the Shabad
B32: Shabad-alaap (Alaap using the words of the shabad, rendered in a manner that enhances the emotion of the shabad and is not to merely exhibit musical skills). Aakaar alaap not used.
B33: Taan using words of the shabad - Sparingly used to enhance the expression of the shabad (not used to exhibit musical skills shabad).
B34: Pronunciation (shoodh uchaaran) and memorization of shabad
B35: SHSI: (accuracy of sur, taal and laiy)
B36: Tabla player's skill - consistency in bol and theka, and appropriate variations, enhancing the expression of the shabad
